BEGIN:VCALENDAR
VERSION:2.0
PRODID:-//Sabre//Sabre VObject 4.5.8//EN
CALSCALE:GREGORIAN
BEGIN:VTIMEZONE
TZID:Europe/Zurich
X-LIC-LOCATION:Europe/Zurich
TZURL:http://tzurl.org/zoneinfo/Europe/Zurich
BEGIN:DAYLIGHT
TZOFFSETFROM:+0100
TZOFFSETTO:+0200
TZNAME:CEST
DTSTART:19810329T020000
RRULE:FREQ=YEARLY;BYMONTH=3;BYDAY=-1SU
END:DAYLIGHT
BEGIN:STANDARD
TZOFFSETFROM:+0200
TZOFFSETTO:+0100
TZNAME:CET
DTSTART:19961027T030000
RRULE:FREQ=YEARLY;BYMONTH=10;BYDAY=-1SU
END:STANDARD
END:VTIMEZONE
BEGIN:VEVENT
UID:news2771@europa.unibas.ch
DTSTAMP;TZID=Europe/Zurich:20260418T180233
DTSTART;VALUE=DATE:20260529
SUMMARY:Workshop «Infrastructures and Violence: Logics\, Encounters\, Enta
 nglements» with Prof. Jutta Bakonyi (Durham University\, Visiting Fellow 
 of the Institute for European Global Studies)
DESCRIPTION:Infrastructures are never merely technical. They distribute lif
 e chances\, foster authority\, symbolize power\, and facilitate integratio
 n as they shape who and what is included or rendered expendable. Infrastru
 ctures undergird imperialism\, shape geopolitical conflicts and\, while th
 ey foster interdependence and cooperation\, they also become vehicles of d
 ispossession\, displacement\, and exclusion. Infrastructures are both inst
 ruments and objects of violence\; they determine how wars unfold and shape
  their character and duration. In short\, infrastructures are constitutive
  for political power and co-produce the forms and modalities – direct an
 d indirect\, fast and slow\, collective and individual – through which v
 iolence is enacted and sustained. \\r\\nThis workshop brings together an 
 interdisciplinary group of scholars engaging with the manifold intersectio
 ns of infrastructure and violence. Possible topics include but are not lim
 ited to armed conflict and its material afterlives\; military and civil in
 frastructures\; planetary urbanization\; commodity chains and logistics\; 
 security technologies\; borders and regimes of containment\; development a
 nd its repercussions\; space\, earth and more-than-human environments\; an
 d the contested terrains of planning and building\, repair\, ruination\, a
 nd abandonment.Jutta Bakonyi [https://www.durham.ac.uk/staff/jutta-bakonyi
 /] is Professor of Development and Conflict at Durham University in the
  UK. Her main research interests are the causes\, actors and dynamics of 
 violence\, orders of violence beyond the state\, state dynamics and intern
 ational interventions. She is also exploring the material and emotive side
  of violence\, for example researching the nexus of displacement and urba
 nisation [https://securityonthemove.co.uk/] and attending to the politic
 s of infrastructures [https://more.bham.ac.uk/port-infrastructure/]\, focu
 ssing especially on ports and transport corridors. Her regional focus is o
 n the Horn of Africa.
X-ALT-DESC:<p>Infrastructures are never merely technical. They distribute l
 ife chances\, foster authority\, symbolize power\, and facilitate integrat
 ion as they shape who and what is included or rendered expendable. Infrast
 ructures undergird imperialism\, shape geopolitical conflicts and\, while 
 they foster interdependence and cooperation\, they also become vehicles of
  dispossession\, displacement\, and exclusion. Infrastructures are both in
 struments and objects of violence\; they determine how wars unfold and sha
 pe their character and duration. In short\, infrastructures are constituti
 ve for political power and co-produce the forms and modalities – direct 
 and indirect\, fast and slow\, collective and individual – through which
  violence is enacted and sustained.&nbsp\;</p>\n<p>This workshop brings to
 gether an interdisciplinary group of scholars engaging with the manifold i
 ntersections of infrastructure and violence. Possible topics include but a
 re not limited to armed conflict and its material afterlives\; military an
 d civil infrastructures\; planetary urbanization\; commodity chains and lo
 gistics\; security technologies\; borders and regimes of containment\; dev
 elopment and its repercussions\; space\, earth and more-than-human environ
 ments\; and the contested terrains of planning and building\, repair\, rui
 nation\, and abandonment.<br /><br /><a href="https://www.durham.ac.uk/sta
 ff/jutta-bakonyi/" target="_blank">Jutta Bakonyi</a>&nbsp\;is&nbsp\;Profes
 sor of Development and Conflict&nbsp\;at Durham University in the UK.&nbsp
 \;Her main research interests are the causes\, actors and dynamics of viol
 ence\, orders of violence beyond the state\, state dynamics and internatio
 nal interventions. She is also exploring the material and emotive side of 
 violence\, for example researching the&nbsp\;<a href="https://securityonth
 emove.co.uk/" target="_blank">nexus of displacement and urbanisation</a>&n
 bsp\;and attending to the&nbsp\;<a href="https://more.bham.ac.uk/port-infr
 astructure/" target="_blank">politics of infrastructures</a>\, focussing e
 specially on ports and transport corridors. Her regional focus is on the H
 orn of Africa.</p>
END:VEVENT
END:VCALENDAR
