BEGIN:VCALENDAR
VERSION:2.0
PRODID:-//Sabre//Sabre VObject 4.5.8//EN
CALSCALE:GREGORIAN
BEGIN:VTIMEZONE
TZID:Europe/Zurich
X-LIC-LOCATION:Europe/Zurich
TZURL:http://tzurl.org/zoneinfo/Europe/Zurich
BEGIN:DAYLIGHT
TZOFFSETFROM:+0100
TZOFFSETTO:+0200
TZNAME:CEST
DTSTART:19810329T020000
RRULE:FREQ=YEARLY;BYMONTH=3;BYDAY=-1SU
END:DAYLIGHT
BEGIN:STANDARD
TZOFFSETFROM:+0200
TZOFFSETTO:+0100
TZNAME:CET
DTSTART:19961027T030000
RRULE:FREQ=YEARLY;BYMONTH=10;BYDAY=-1SU
END:STANDARD
END:VTIMEZONE
BEGIN:VEVENT
UID:news2746@europa.unibas.ch
DTSTAMP;TZID=Europe/Zurich:20260222T211938
DTSTART;TZID=Europe/Zurich:20260414T180000
SUMMARY:Public Lecture with Juliette Faure (University of Lille): "The Rise
  of the Russian Hawks: Ideology and Politics from the Late Soviet Union to
  Putin's Russia”
DESCRIPTION:Juliette Faure  [https://univ-droit.fr/universitaires/59763-jul
 iette-faure]is a Professor of Political Science at the University of Lille
 . Her research focuses on ideology\, political regimes and international r
 elations\, with particular expertise in Russian politics and conservative 
 ideological networks. In 2025 she published the book “The Rise of the Ru
 ssian Hawks: Ideology and Politics from the Late Soviet Union to Putin’s
  Russia” (Cambridge University Press).
X-ALT-DESC:<p><a href="https://univ-droit.fr/universitaires/59763-juliette-
 faure">Juliette Faure </a>is a Professor of Political Science at the Unive
 rsity of Lille. Her research focuses on ideology\, political regimes and i
 nternational relations\, with particular expertise in Russian politics and
  conservative ideological networks. In 2025 she published the book “The 
 Rise of the Russian Hawks: Ideology and Politics from the Late Soviet Unio
 n to Putin’s Russia” (Cambridge University Press).</p>
END:VEVENT
END:VCALENDAR
